BEGIN:VCALENDAR
VERSION:2.0
PRODID:spatie/icalendar-generator
DESCRIPTION:Events from Hamlet of Pond Inlet
X-WR-CALDESC:Events from Hamlet of Pond Inlet
REFRESH-INTERVAL;VALUE=DURATION:PT1440M
X-PUBLISHED-TTL:PT1440M
BEGIN:VTIMEZONE
TZID:America/Iqaluit
BEGIN:DAYLIGHT
DTSTART:20260308T020000Z
TZOFFSETFROM:-0500
TZOFFSETTO:-0400
END:DAYLIGHT
BEGIN:STANDARD
DTSTART:20261101T020000Z
TZOFFSETFROM:-0400
TZOFFSETTO:-0500
END:STANDARD
BEGIN:DAYLIGHT
DTSTART:20270314T020000Z
TZOFFSETFROM:-0500
TZOFFSETTO:-0400
END:DAYLIGHT
END:VTIMEZONE
BEGIN:VTIMEZONE
TZID:UTC
BEGIN:STANDARD
DTSTART:20250723T125600Z
TZOFFSETFROM:+0000
TZOFFSETTO:+0000
END:STANDARD
END:VTIMEZONE
BEGIN:VEVENT
UID:129-18
DTSTAMP:20260419T125600Z
SUMMARY:Halloween
LOCATION:
ORGANIZER;CN=Webmaster:MAILTO:support@newharvest.ca
RRULE:FREQ=YEARLY;BYMONTH=10;BYDAY=31;COUNT=8
DTSTART;TZID=America/Iqaluit;VALUE=DATE:20261031
DTEND;TZID=America/Iqaluit;VALUE=DATE:20261101
X-ALT-DESC;FMTTYPE=TEXT/HTML:Halloween parade\, haunted house\, and teen da
 nce
CATEGORIES:Special Events Schedule
URL;VALUE=URI:https://pondinlet.ca/news-events/events-calendar/?mc_id=129&amp;#
 038;vcal=129
METHOD:PUBLISH
END:VEVENT
END:VCALENDAR